BEGIN:VCALENDAR
VERSION:2.0
PRODID:-//ChamberMaster//Event Calendar 2.0//EN
METHOD:PUBLISH
X-PUBLISHED-TTL:P3D
REFRESH-INTERVAL:P3D
CALSCALE:GREGORIAN
BEGIN:VEVENT
DTSTART:20260422T130000Z
DTEND:20260422T143000Z
X-MICROSOFT-CDO-ALLDAYEVENT:FALSE
SUMMARY:SBA Advocacy Round Table
DESCRIPTION:Michigan small business owners are invited to participate to provide feedback about regulations that you believe should be repealed or reformed. \n\n \n\nThe roundtable will be led by the U.S. Small Business Administration's Office of Advocacy\, which is working to identify and eliminate regulations that have driven up costs for consumers and small businesses. The office is looking for business owners who have experienced:\n\n \n\n	Costly\, confusing or outdated regulations\;\n	Regulations that caused permitting or licensing delays\;\n	Duplicative or conflicting rules\; and/or\n	Excessive paperwork or unclear guidance\n\n\n\nClick Here to Register for Free Today
X-ALT-DESC;FMTTYPE=text/html:<strong><em><span style="color:#CC0000\;"><span style="font-family:source sans pro black\,sans-serif\;"><span style="font-size:22.0pt\;">Michigan</span></span></span></em></strong><strong><em><span style="color:#CC0000\;"><span style="font-family:source sans pro black\,sans-serif\;"><span style="font-size:20.0pt\;"> small business owners are invited to participate to provide feedback about regulations that you believe should be repealed or reformed. </span></span></span></em></strong><br />\n&nbsp\;<br />\n<strong><span style="font-family:source sans pro\,sans-serif\;"><span style="font-size:14.0pt\;">The roundtable will be led by the U.S. Small Business Administration&rsquo\;s Office of Advocacy\, which is working to identify and eliminate regulations that have driven up costs for consumers and small businesses. The office is looking for business owners who have experienced:</span></span></strong><br />\n&nbsp\;\n<ul>\n	<li><strong><span style="font-family:source sans pro semibold\,sans-serif\;">Costly\, confusing or outdated regulations\;</span></strong></li>\n	<li><strong><span style="font-family:source sans pro semibold\,sans-serif\;">Regulations that caused permitting or licensing delays\;</span></strong></li>\n	<li><strong><span style="font-family:source sans pro semibold\,sans-serif\;">Duplicative or conflicting rules\; and/or</span></strong></li>\n	<li><strong><span style="font-family:source sans pro semibold\,sans-serif\;">Excessive paperwork or unclear guidance</span></strong></li>\n</ul>\n<br />\n<strong><span style="font-family:source sans pro semibold\,sans-serif\;"><a href="https://www.eventbrite.com/e/sba-mdo-presents-a-roundtable-to-cut-the-red-tape-north-oakland-tickets-1984337068589?aff=oddtdtcreator"><span style="color:#FF0000\;"><span style="font-size:18px\;">Click Here to Register for Free Today</span></span></a></span></strong>
LOCATION:Brandon Township Public Library 304 South St Ortonville\, MI 48462
UID:e.3537.307
SEQUENCE:3
DTSTAMP:20260420T005612Z
URL:https://business.northoaklandchambers.com/events/details/sba-advocacy-round-table-307
END:VEVENT

END:VCALENDAR
